BEGIN:VCALENDAR
VERSION:2.0
PRODID:-//Aeroplume - ECPv6.15.18//NONSGML v1.0//EN
CALSCALE:GREGORIAN
METHOD:PUBLISH
X-WR-CALNAME:Aeroplume
X-ORIGINAL-URL:https://dev.aeroplume.lu/wp
X-WR-CALDESC:Events for Aeroplume
REFRESH-INTERVAL;VALUE=DURATION:PT1H
X-Robots-Tag:noindex
X-PUBLISHED-TTL:PT1H
BEGIN:VTIMEZONE
TZID:Europe/Paris
BEGIN:DAYLIGHT
TZOFFSETFROM:+0100
TZOFFSETTO:+0200
TZNAME:CEST
DTSTART:20150329T010000
END:DAYLIGHT
BEGIN:STANDARD
TZOFFSETFROM:+0200
TZOFFSETTO:+0100
TZNAME:CET
DTSTART:20151025T010000
END:STANDARD
BEGIN:DAYLIGHT
TZOFFSETFROM:+0100
TZOFFSETTO:+0200
TZNAME:CEST
DTSTART:20160327T010000
END:DAYLIGHT
BEGIN:STANDARD
TZOFFSETFROM:+0200
TZOFFSETTO:+0100
TZNAME:CET
DTSTART:20161030T010000
END:STANDARD
BEGIN:DAYLIGHT
TZOFFSETFROM:+0100
TZOFFSETTO:+0200
TZNAME:CEST
DTSTART:20170326T010000
END:DAYLIGHT
BEGIN:STANDARD
TZOFFSETFROM:+0200
TZOFFSETTO:+0100
TZNAME:CET
DTSTART:20171029T010000
END:STANDARD
END:VTIMEZONE
BEGIN:VEVENT
DTSTART;TZID=Europe/Paris:20161103T193000
DTEND;TZID=Europe/Paris:20161103T213000
DTSTAMP:20260422T185524
CREATED:20161013T113621Z
LAST-MODIFIED:20170307T215100Z
UID:2331-1478201400-1478208600@dev.aeroplume.lu
SUMMARY:Cours théoriques 2016/2017
DESCRIPTION:
URL:https://dev.aeroplume.lu/wp/event/cours-theoriques-20162017/
CATEGORIES:Aeroplume
END:VEVENT
BEGIN:VEVENT
DTSTART;TZID=Europe/Paris:20161028T190000
DTEND;TZID=Europe/Paris:20161028T230000
DTSTAMP:20260422T185524
CREATED:20160321T233221Z
LAST-MODIFIED:20170307T215106Z
UID:1433-1477681200-1477695600@dev.aeroplume.lu
SUMMARY:Keelenowend
DESCRIPTION:
URL:https://dev.aeroplume.lu/wp/event/keelenowend/
CATEGORIES:Aeroplume
ORGANIZER;CN="Aeroplume":MAILTO:aeroplume@pt.lu
END:VEVENT
BEGIN:VEVENT
DTSTART;VALUE=DATE:20160924
DTEND;VALUE=DATE:20160926
DTSTAMP:20260422T185524
CREATED:20160321T233031Z
LAST-MODIFIED:20170307T215112Z
UID:1431-1474675200-1474847999@dev.aeroplume.lu
SUMMARY:Championnat Aeroplume
DESCRIPTION:
URL:https://dev.aeroplume.lu/wp/event/championnat-aeroplume/
LOCATION:Terrain Zoufftgen\, Zoufftgen\, France
CATEGORIES:Aeroplume
ORGANIZER;CN="Aeroplume":MAILTO:aeroplume@pt.lu
END:VEVENT
BEGIN:VEVENT
DTSTART;TZID=Europe/Paris:20160724T090000
DTEND;TZID=Europe/Paris:20160724T200000
DTSTAMP:20260422T185524
CREATED:20160321T233138Z
LAST-MODIFIED:20170307T215119Z
UID:1432-1469350800-1469390400@dev.aeroplume.lu
SUMMARY:Porte Ouverte Zoufftgen
DESCRIPTION:
URL:https://dev.aeroplume.lu/wp/event/porte-ouverte-zoufftgen/
LOCATION:Terrain Zoufftgen\, Zoufftgen\, France
CATEGORIES:Aeroplume
ORGANIZER;CN="Aeroplume":MAILTO:aeroplume@pt.lu
END:VEVENT
BEGIN:VEVENT
DTSTART;VALUE=DATE:20160703
DTEND;VALUE=DATE:20160704
DTSTAMP:20260422T185524
CREATED:20160321T232946Z
LAST-MODIFIED:20170307T215222Z
UID:1430-1467504000-1467590399@dev.aeroplume.lu
SUMMARY:Tour Aeroplume
DESCRIPTION:
URL:https://dev.aeroplume.lu/wp/event/tour-aeroplume/
LOCATION:Terrain Zoufftgen\, Zoufftgen\, France
CATEGORIES:Aeroplume
ORGANIZER;CN="Aeroplume":MAILTO:aeroplume@pt.lu
END:VEVENT
BEGIN:VEVENT
DTSTART;TZID=Europe/Paris:20160507T090000
DTEND;TZID=Europe/Paris:20160507T170000
DTSTAMP:20260422T185524
CREATED:20160321T232646Z
LAST-MODIFIED:20170307T215319Z
UID:1427-1462611600-1462640400@dev.aeroplume.lu
SUMMARY:Ouverture
DESCRIPTION:Ouverture officielle de la nouvelle platforme de l’Aeroplume à Zoufftgen
URL:https://dev.aeroplume.lu/wp/event/ouverture/
LOCATION:Terrain Zoufftgen\, Zoufftgen\, France
CATEGORIES:Aeroplume
ORGANIZER;CN="Aeroplume":MAILTO:aeroplume@pt.lu
END:VEVENT
BEGIN:VEVENT
DTSTART;TZID=Europe/Paris:20160501T090000
DTEND;TZID=Europe/Paris:20160501T170000
DTSTAMP:20260422T185524
CREATED:20160321T232401Z
LAST-MODIFIED:20170307T215324Z
UID:1425-1462093200-1462122000@dev.aeroplume.lu
SUMMARY:Ouverture saison
DESCRIPTION:
URL:https://dev.aeroplume.lu/wp/event/ouverture-saison/
LOCATION:Terrain Zoufftgen\, Zoufftgen\, France
CATEGORIES:Aeroplume
ORGANIZER;CN="Aeroplume":MAILTO:aeroplume@pt.lu
END:VEVENT
BEGIN:VEVENT
DTSTART;TZID=Europe/Paris:20160305T173000
DTEND;TZID=Europe/Paris:20160305T220000
DTSTAMP:20260422T185524
CREATED:20160321T215324Z
LAST-MODIFIED:20170307T215521Z
UID:1417-1457199000-1457215200@dev.aeroplume.lu
SUMMARY:AG Aeroplume
DESCRIPTION:Assemblée générale Aeroplume 2016 \n\n\n\n\n   \n      \n         \n         160209 Invitation AG membres\n      \n   \n   \n      \n         \n         160209 Programme AG\n      \n   \n   \n      \n         \n         160209 Procuration_Candidature comite
URL:https://dev.aeroplume.lu/wp/event/assemblee-generale-aeroplume-2016/
LOCATION:A Guddesch\, 1 am Kaesch\, Beringen\, 7593\, Luxembourg
CATEGORIES:Aeroplume
ORGANIZER;CN="Aeroplume":MAILTO:aeroplume@pt.lu
END:VEVENT
END:VCALENDAR