BEGIN:VCALENDAR
VERSION:2.0
PRODID:-//Aeroplume - ECPv6.15.18//NONSGML v1.0//EN
CALSCALE:GREGORIAN
METHOD:PUBLISH
X-ORIGINAL-URL:https://dev.aeroplume.lu/wp
X-WR-CALDESC:Events for Aeroplume
REFRESH-INTERVAL;VALUE=DURATION:PT1H
X-Robots-Tag:noindex
X-PUBLISHED-TTL:PT1H
BEGIN:VTIMEZONE
TZID:Europe/Paris
BEGIN:DAYLIGHT
TZOFFSETFROM:+0100
TZOFFSETTO:+0200
TZNAME:CEST
DTSTART:20170326T010000
END:DAYLIGHT
BEGIN:STANDARD
TZOFFSETFROM:+0200
TZOFFSETTO:+0100
TZNAME:CET
DTSTART:20171029T010000
END:STANDARD
BEGIN:DAYLIGHT
TZOFFSETFROM:+0100
TZOFFSETTO:+0200
TZNAME:CEST
DTSTART:20180325T010000
END:DAYLIGHT
BEGIN:STANDARD
TZOFFSETFROM:+0200
TZOFFSETTO:+0100
TZNAME:CET
DTSTART:20181028T010000
END:STANDARD
BEGIN:DAYLIGHT
TZOFFSETFROM:+0100
TZOFFSETTO:+0200
TZNAME:CEST
DTSTART:20190331T010000
END:DAYLIGHT
BEGIN:STANDARD
TZOFFSETFROM:+0200
TZOFFSETTO:+0100
TZNAME:CET
DTSTART:20191027T010000
END:STANDARD
BEGIN:DAYLIGHT
TZOFFSETFROM:+0100
TZOFFSETTO:+0200
TZNAME:CEST
DTSTART:20200329T010000
END:DAYLIGHT
BEGIN:STANDARD
TZOFFSETFROM:+0200
TZOFFSETTO:+0100
TZNAME:CET
DTSTART:20201025T010000
END:STANDARD
BEGIN:DAYLIGHT
TZOFFSETFROM:+0100
TZOFFSETTO:+0200
TZNAME:CEST
DTSTART:20210328T010000
END:DAYLIGHT
BEGIN:STANDARD
TZOFFSETFROM:+0200
TZOFFSETTO:+0100
TZNAME:CET
DTSTART:20211031T010000
END:STANDARD
BEGIN:DAYLIGHT
TZOFFSETFROM:+0100
TZOFFSETTO:+0200
TZNAME:CEST
DTSTART:20220327T010000
END:DAYLIGHT
BEGIN:STANDARD
TZOFFSETFROM:+0200
TZOFFSETTO:+0100
TZNAME:CET
DTSTART:20221030T010000
END:STANDARD
BEGIN:DAYLIGHT
TZOFFSETFROM:+0100
TZOFFSETTO:+0200
TZNAME:CEST
DTSTART:20230326T010000
END:DAYLIGHT
BEGIN:STANDARD
TZOFFSETFROM:+0200
TZOFFSETTO:+0100
TZNAME:CET
DTSTART:20231029T010000
END:STANDARD
BEGIN:DAYLIGHT
TZOFFSETFROM:+0100
TZOFFSETTO:+0200
TZNAME:CEST
DTSTART:20240331T010000
END:DAYLIGHT
BEGIN:STANDARD
TZOFFSETFROM:+0200
TZOFFSETTO:+0100
TZNAME:CET
DTSTART:20241027T010000
END:STANDARD
END:VTIMEZONE
BEGIN:VEVENT
DTSTART;TZID=Europe/Paris:20230624T090000
DTEND;TZID=Europe/Paris:20230624T170000
DTSTAMP:20260422T123959
CREATED:20230502T090445Z
LAST-MODIFIED:20230614T074259Z
UID:3826-1687597200-1687626000@dev.aeroplume.lu
SUMMARY:Tour Aeroplume 1
DESCRIPTION:Date alternative: 25.06.2023 \nFly-out Aeroplume du 24 juin vers STADTLOHN-VREDEN  (EDLS) \n\n\nhttps://www.flugplatz-stadtlohn.de/index.php?id=9&L=744\n\n\nBriefing : 9h\nDépart 09:30\n\nLunch sur le terrain ici vers 12h : https://www.flugplatz-stadtlohn.de/index.php?id=50\n\nRetour vers Zoufftgen ou toute autre destination à la discrétion des participants.\n\n\n\nInscription obligatoire pour le restaurant jusqu’au 20/06/2023 chez Jeannot ici  : jeannot.grethen@gmail.com\n\n\nA voir sur la route : mine de charbon de Noervenich\n\n\n\nAussi\, une panoplie de châteaux peuvent êtres admirés au sud de la CTR de Cologne et Noervenich:\n\n\n\n 
URL:https://dev.aeroplume.lu/wp/event/tour-aeroplume-1-3/
LOCATION:Terrain Zoufftgen\, Zoufftgen\, France
CATEGORIES:Aeroplume,Fly-out
ORGANIZER;CN="Aeroplume":MAILTO:aeroplume@pt.lu
END:VEVENT
BEGIN:VEVENT
DTSTART;TZID=Europe/Paris:20230501T093000
DTEND;TZID=Europe/Paris:20230501T170000
DTSTAMP:20260422T123959
CREATED:20230502T090307Z
LAST-MODIFIED:20230502T090307Z
UID:3824-1682933400-1682960400@dev.aeroplume.lu
SUMMARY:Ouverture saison
DESCRIPTION:
URL:https://dev.aeroplume.lu/wp/event/ouverture-saison-6/
LOCATION:Terrain Zoufftgen\, Zoufftgen\, France
CATEGORIES:Aeroplume
ORGANIZER;CN="Aeroplume":MAILTO:aeroplume@pt.lu
END:VEVENT
BEGIN:VEVENT
DTSTART;TZID=Europe/Paris:20230311T160000
DTEND;TZID=Europe/Paris:20230311T210000
DTSTAMP:20260422T123959
CREATED:20230502T090142Z
LAST-MODIFIED:20230502T090142Z
UID:3822-1678550400-1678568400@dev.aeroplume.lu
SUMMARY:AG Aeroplume
DESCRIPTION:Assemblée générale Aeroplume 2023
URL:https://dev.aeroplume.lu/wp/event/ag-aeroplume-7/
CATEGORIES:Aeroplume
ORGANIZER;CN="Aeroplume":MAILTO:aeroplume@pt.lu
END:VEVENT
BEGIN:VEVENT
DTSTART;TZID=Europe/Paris:20221217T190000
DTEND;TZID=Europe/Paris:20221217T210000
DTSTAMP:20260422T123959
CREATED:20230502T090011Z
LAST-MODIFIED:20230502T090011Z
UID:3820-1671303600-1671310800@dev.aeroplume.lu
SUMMARY:Fête de Noël
DESCRIPTION:
URL:https://dev.aeroplume.lu/wp/event/fete-de-noel-6/
LOCATION:Les Espaces Réunions S.A.\, 3\, Z.A. de la Poudrerie\, Leudelange\, L-3364\, Luxembourg
CATEGORIES:Aeroplume
ORGANIZER;CN="Aeroplume":MAILTO:aeroplume@pt.lu
END:VEVENT
BEGIN:VEVENT
DTSTART;TZID=Europe/Paris:20220910T080000
DTEND;TZID=Europe/Paris:20220910T170000
DTSTAMP:20260422T123959
CREATED:20230502T085710Z
LAST-MODIFIED:20230502T085710Z
UID:3816-1662796800-1662829200@dev.aeroplume.lu
SUMMARY:Tour Aeroplume 2
DESCRIPTION:Date alternative: 11.09.2022
URL:https://dev.aeroplume.lu/wp/event/tour-aeroplume-2-3/
LOCATION:Terrain Zoufftgen\, Zoufftgen\, France
CATEGORIES:Aeroplume,Fly-out
ORGANIZER;CN="Aeroplume":MAILTO:aeroplume@pt.lu
END:VEVENT
BEGIN:VEVENT
DTSTART;TZID=Europe/Paris:20220709T080000
DTEND;TZID=Europe/Paris:20220709T170000
DTSTAMP:20260422T123959
CREATED:20230502T085548Z
LAST-MODIFIED:20230502T085548Z
UID:3814-1657353600-1657386000@dev.aeroplume.lu
SUMMARY:Tour Aeroplume 1
DESCRIPTION:Date alternative: 10.07.2022
URL:https://dev.aeroplume.lu/wp/event/tour-aeroplume-1-2/
LOCATION:Terrain Zoufftgen\, Zoufftgen\, France
CATEGORIES:Aeroplume,Fly-out
ORGANIZER;CN="Aeroplume":MAILTO:aeroplume@pt.lu
END:VEVENT
BEGIN:VEVENT
DTSTART;TZID=Europe/Paris:20220501T093000
DTEND;TZID=Europe/Paris:20220501T170000
DTSTAMP:20260422T123959
CREATED:20230502T085341Z
LAST-MODIFIED:20230502T085341Z
UID:3811-1651397400-1651424400@dev.aeroplume.lu
SUMMARY:Ouverture saison
DESCRIPTION:
URL:https://dev.aeroplume.lu/wp/event/ouverture-saison-5/
LOCATION:Terrain Zoufftgen\, Zoufftgen\, France
CATEGORIES:Aeroplume
ORGANIZER;CN="Aeroplume":MAILTO:aeroplume@pt.lu
END:VEVENT
BEGIN:VEVENT
DTSTART;TZID=Europe/Paris:20220326T160000
DTEND;TZID=Europe/Paris:20220326T200000
DTSTAMP:20260422T123959
CREATED:20230502T085140Z
LAST-MODIFIED:20230502T085140Z
UID:3808-1648310400-1648324800@dev.aeroplume.lu
SUMMARY:AG Aeroplume
DESCRIPTION:Assemblée générale Aeroplume 2022
URL:https://dev.aeroplume.lu/wp/event/ag-aeroplume-6/
CATEGORIES:Aeroplume
ORGANIZER;CN="Aeroplume":MAILTO:aeroplume@pt.lu
END:VEVENT
BEGIN:VEVENT
DTSTART;TZID=Europe/Paris:20211211T190000
DTEND;TZID=Europe/Paris:20211211T233000
DTSTAMP:20260422T123959
CREATED:20210426T111257Z
LAST-MODIFIED:20210426T111310Z
UID:3332-1639249200-1639265400@dev.aeroplume.lu
SUMMARY:Fête de Noël
DESCRIPTION:  \n  \n 
URL:https://dev.aeroplume.lu/wp/event/fete-de-noel-5/
CATEGORIES:Aeroplume
ORGANIZER;CN="Aeroplume":MAILTO:aeroplume@pt.lu
END:VEVENT
BEGIN:VEVENT
DTSTART;TZID=Europe/Paris:20211104T190000
DTEND;TZID=Europe/Paris:20221104T210000
DTSTAMP:20260422T123959
CREATED:20230502T085846Z
LAST-MODIFIED:20230502T085846Z
UID:3818-1636052400-1667595600@dev.aeroplume.lu
SUMMARY:Fotosowend
DESCRIPTION:
URL:https://dev.aeroplume.lu/wp/event/fotosowend-3/
CATEGORIES:Aeroplume
ORGANIZER;CN="Aeroplume":MAILTO:aeroplume@pt.lu
END:VEVENT
BEGIN:VEVENT
DTSTART;TZID=Europe/Paris:20211015T190000
DTEND;TZID=Europe/Paris:20211015T233000
DTSTAMP:20260422T123959
CREATED:20210426T111146Z
LAST-MODIFIED:20210426T111146Z
UID:3330-1634324400-1634340600@dev.aeroplume.lu
SUMMARY:Keelenowend
DESCRIPTION:  \n 
URL:https://dev.aeroplume.lu/wp/event/keelenowend-3/
CATEGORIES:Aeroplume
ORGANIZER;CN="Aeroplume":MAILTO:aeroplume@pt.lu
END:VEVENT
BEGIN:VEVENT
DTSTART;TZID=Europe/Paris:20210904T080000
DTEND;TZID=Europe/Paris:20210904T170000
DTSTAMP:20260422T123959
CREATED:20210426T111010Z
LAST-MODIFIED:20210426T111010Z
UID:3328-1630742400-1630774800@dev.aeroplume.lu
SUMMARY:Tour Aeroplume 2
DESCRIPTION:  \n 
URL:https://dev.aeroplume.lu/wp/event/tour-aeroplume-2-2/
CATEGORIES:Aeroplume,Fly-out
ORGANIZER;CN="Aeroplume":MAILTO:aeroplume@pt.lu
END:VEVENT
BEGIN:VEVENT
DTSTART;TZID=Europe/Paris:20210626T080000
DTEND;TZID=Europe/Paris:20210626T170000
DTSTAMP:20260422T123959
CREATED:20210426T110924Z
LAST-MODIFIED:20210426T110924Z
UID:3326-1624694400-1624726800@dev.aeroplume.lu
SUMMARY:Tour Aeroplume 1
DESCRIPTION:  \n 
URL:https://dev.aeroplume.lu/wp/event/tour-aeroplume-1/
CATEGORIES:Aeroplume,Fly-out
ORGANIZER;CN="Aeroplume":MAILTO:aeroplume@pt.lu
END:VEVENT
BEGIN:VEVENT
DTSTART;TZID=Europe/Paris:20210503T140000
DTEND;TZID=Europe/Paris:20210503T140000
DTSTAMP:20260422T123959
CREATED:20210426T121612Z
LAST-MODIFIED:20210426T121612Z
UID:3338-1620050400-1620050400@dev.aeroplume.lu
SUMMARY:Ecole
DESCRIPTION:Début vol d’école
URL:https://dev.aeroplume.lu/wp/event/ecole/
LOCATION:Terrain Zoufftgen\, Zoufftgen\, France
CATEGORIES:Aeroplume
ORGANIZER;CN="Aeroplume":MAILTO:aeroplume@pt.lu
END:VEVENT
BEGIN:VEVENT
DTSTART;TZID=Europe/Paris:20210501T110000
DTEND;TZID=Europe/Paris:20210501T120000
DTSTAMP:20260422T123959
CREATED:20210426T110736Z
LAST-MODIFIED:20210426T110736Z
UID:3323-1619866800-1619870400@dev.aeroplume.lu
SUMMARY:AG Aeroplume
DESCRIPTION:Assemblée générale Aeroplume 2021 \n 
URL:https://dev.aeroplume.lu/wp/event/ag-aeroplume-5/
CATEGORIES:Aeroplume
ORGANIZER;CN="Aeroplume":MAILTO:aeroplume@pt.lu
END:VEVENT
BEGIN:VEVENT
DTSTART;TZID=Europe/Paris:20200620T100000
DTEND;TZID=Europe/Paris:20200620T120000
DTSTAMP:20260422T123959
CREATED:20210426T110618Z
LAST-MODIFIED:20210426T110618Z
UID:3321-1592647200-1592654400@dev.aeroplume.lu
SUMMARY:AG Aeroplume
DESCRIPTION:Assemblée générale Aeroplume 2020 \n 
URL:https://dev.aeroplume.lu/wp/event/ag-aeroplume-4/
LOCATION:Terrain Zoufftgen\, Zoufftgen\, France
CATEGORIES:Aeroplume
ORGANIZER;CN="Aeroplume":MAILTO:aeroplume@pt.lu
END:VEVENT
BEGIN:VEVENT
DTSTART;TZID=Europe/Paris:20191214T190000
DTEND;TZID=Europe/Paris:20191214T220000
DTSTAMP:20260422T123959
CREATED:20190110T172437Z
LAST-MODIFIED:20190110T172437Z
UID:3063-1576350000-1576360800@dev.aeroplume.lu
SUMMARY:Fête de Noël
DESCRIPTION:
URL:https://dev.aeroplume.lu/wp/event/fete-de-noel-4/
LOCATION:Edelwyss\, 34 rue de Saeul\, Kopstal\, 8189\, Luxembourg
CATEGORIES:Aeroplume
ORGANIZER;CN="Aeroplume":MAILTO:aeroplume@pt.lu
END:VEVENT
BEGIN:VEVENT
DTSTART;TZID=Europe/Paris:20191011T190000
DTEND;TZID=Europe/Paris:20191011T230000
DTSTAMP:20260422T123959
CREATED:20190110T172734Z
LAST-MODIFIED:20190110T172748Z
UID:3068-1570820400-1570834800@dev.aeroplume.lu
SUMMARY:Fotosowend
DESCRIPTION:
URL:https://dev.aeroplume.lu/wp/event/fotosowend-2/
CATEGORIES:Aeroplume
ORGANIZER;CN="Aeroplume":MAILTO:aeroplume@pt.lu
END:VEVENT
BEGIN:VEVENT
DTSTART;VALUE=DATE:20190914
DTEND;VALUE=DATE:20190915
DTSTAMP:20260422T123959
CREATED:20190110T172115Z
LAST-MODIFIED:20190705T154406Z
UID:3061-1568419200-1568505599@dev.aeroplume.lu
SUMMARY:Championnat
DESCRIPTION:  \n 
URL:https://dev.aeroplume.lu/wp/event/championnat/
LOCATION:Terrain Zoufftgen\, Zoufftgen\, France
CATEGORIES:Aeroplume,FAL
ORGANIZER;CN="Aeroplume":MAILTO:aeroplume@pt.lu
END:VEVENT
BEGIN:VEVENT
DTSTART;VALUE=DATE:20190914
DTEND;VALUE=DATE:20190915
DTSTAMP:20260422T123959
CREATED:20190110T171926Z
LAST-MODIFIED:20190705T154452Z
UID:3059-1568419200-1568505599@dev.aeroplume.lu
SUMMARY:Tour Aeroplume
DESCRIPTION:  \n 
URL:https://dev.aeroplume.lu/wp/event/tour-aeroplume-4/
LOCATION:Terrain Zoufftgen\, Zoufftgen\, France
CATEGORIES:Aeroplume,Fly-out
ORGANIZER;CN="Aeroplume":MAILTO:aeroplume@pt.lu
END:VEVENT
BEGIN:VEVENT
DTSTART;TZID=Europe/Paris:20190630T100000
DTEND;TZID=Europe/Paris:20190630T170000
DTSTAMP:20260422T123959
CREATED:20190110T170940Z
LAST-MODIFIED:20190110T170940Z
UID:3053-1561888800-1561914000@dev.aeroplume.lu
SUMMARY:Visite MG-Club
DESCRIPTION:
URL:https://dev.aeroplume.lu/wp/event/visite-mg-club/
LOCATION:Terrain Zoufftgen\, Zoufftgen\, France
CATEGORIES:Aeroplume
ORGANIZER;CN="Aeroplume":MAILTO:aeroplume@pt.lu
END:VEVENT
BEGIN:VEVENT
DTSTART;TZID=Europe/Paris:20190501T090000
DTEND;TZID=Europe/Paris:20190501T180000
DTSTAMP:20260422T123959
CREATED:20190110T170822Z
LAST-MODIFIED:20190110T170822Z
UID:3051-1556701200-1556733600@dev.aeroplume.lu
SUMMARY:Ouverture saison
DESCRIPTION:
URL:https://dev.aeroplume.lu/wp/event/ouverture-saison-4/
CATEGORIES:Aeroplume
ORGANIZER;CN="Aeroplume":MAILTO:aeroplume@pt.lu
END:VEVENT
BEGIN:VEVENT
DTSTART;TZID=Europe/Paris:20190323T170000
DTEND;TZID=Europe/Paris:20190323T220000
DTSTAMP:20260422T123959
CREATED:20190110T170451Z
LAST-MODIFIED:20190110T170451Z
UID:3047-1553360400-1553378400@dev.aeroplume.lu
SUMMARY:AG Aeroplume
DESCRIPTION:Assemblée générale Aeroplume 2019
URL:https://dev.aeroplume.lu/wp/event/ag-aeroplume-3/
CATEGORIES:Aeroplume
ORGANIZER;CN="Aeroplume":MAILTO:aeroplume@pt.lu
END:VEVENT
BEGIN:VEVENT
DTSTART;TZID=Europe/Paris:20181215T190000
DTEND;TZID=Europe/Paris:20181215T220000
DTSTAMP:20260422T123959
CREATED:20180128T154603Z
LAST-MODIFIED:20181108T104926Z
UID:2859-1544900400-1544911200@dev.aeroplume.lu
SUMMARY:Fête de Noël
DESCRIPTION:
URL:https://dev.aeroplume.lu/wp/event/fete-de-noel-3/
LOCATION:Edelwyss\, 34 rue de Saeul\, Kopstal\, 8189\, Luxembourg
CATEGORIES:Aeroplume
ORGANIZER;CN="Aeroplume":MAILTO:aeroplume@pt.lu
END:VEVENT
BEGIN:VEVENT
DTSTART;TZID=Europe/Paris:20181117T100000
DTEND;TZID=Europe/Paris:20181117T160000
DTSTAMP:20260422T123959
CREATED:20181026T111116Z
LAST-MODIFIED:20181026T111116Z
UID:2929-1542448800-1542470400@dev.aeroplume.lu
SUMMARY:Présentation MagniGyro M24 VIP - date alternative
DESCRIPTION:M. Patrick Bernard (magnigyrofrance@gmail.com)\, représentant de MagniGyro (http://www.magnigyro.it/en/HOME; http://www.magnigyro-autogires.com/) en France\, nous invite à une présentation de leur autogire côte à côte MagniGyro M24 VIP.
URL:https://dev.aeroplume.lu/wp/event/presentation-magnigyro-m24-vip-date-alternative/
LOCATION:Terrain Zoufftgen\, Zoufftgen\, France
CATEGORIES:Aeroplume
ORGANIZER;CN="Aeroplume":MAILTO:aeroplume@pt.lu
END:VEVENT
BEGIN:VEVENT
DTSTART;TZID=Europe/Paris:20181108T193000
DTEND;TZID=Europe/Paris:20181108T213000
DTSTAMP:20260422T123959
CREATED:20181026T111623Z
LAST-MODIFIED:20181026T111651Z
UID:2931-1541705400-1541712600@dev.aeroplume.lu
SUMMARY:Ecole 2018/2019
DESCRIPTION:Début des cours théorique: Session 2018/2019
URL:https://dev.aeroplume.lu/wp/event/ecole-2018-2019/
LOCATION:Eirelux\, 40\, rue des Bruyères\, Howald\, 1274\, Luxembourg
CATEGORIES:Aeroplume
ORGANIZER;CN="Aeroplume":MAILTO:aeroplume@pt.lu
END:VEVENT
BEGIN:VEVENT
DTSTART;TZID=Europe/Paris:20181012T190000
DTEND;TZID=Europe/Paris:20181012T220000
DTSTAMP:20260422T123959
CREATED:20180128T154445Z
LAST-MODIFIED:20180128T154445Z
UID:2857-1539370800-1539381600@dev.aeroplume.lu
SUMMARY:Keelenowend
DESCRIPTION:
URL:https://dev.aeroplume.lu/wp/event/keelenowend-2/
CATEGORIES:Aeroplume
ORGANIZER;CN="Aeroplume":MAILTO:aeroplume@pt.lu
END:VEVENT
BEGIN:VEVENT
DTSTART;VALUE=DATE:20180630
DTEND;VALUE=DATE:20180702
DTSTAMP:20260422T123959
CREATED:20180128T154316Z
LAST-MODIFIED:20180128T154316Z
UID:2855-1530316800-1530489599@dev.aeroplume.lu
SUMMARY:Tour Aeroplume
DESCRIPTION:
URL:https://dev.aeroplume.lu/wp/event/tour-aeroplume-3/
LOCATION:Terrain Zoufftgen\, Zoufftgen\, France
CATEGORIES:Aeroplume
ORGANIZER;CN="Aeroplume":MAILTO:aeroplume@pt.lu
END:VEVENT
BEGIN:VEVENT
DTSTART;TZID=Europe/Paris:20180512T100000
DTEND;TZID=Europe/Paris:20180512T180000
DTSTAMP:20260422T123959
CREATED:20180128T154159Z
LAST-MODIFIED:20180423T115211Z
UID:2853-1526119200-1526148000@dev.aeroplume.lu
SUMMARY:Journée personnes handicapées
DESCRIPTION:
URL:https://dev.aeroplume.lu/wp/event/journee-personnes-handicapees/
LOCATION:Terrain Zoufftgen\, Zoufftgen\, France
CATEGORIES:Aeroplume
ORGANIZER;CN="Aeroplume":MAILTO:aeroplume@pt.lu
END:VEVENT
BEGIN:VEVENT
DTSTART;TZID=Europe/Paris:20180501T090000
DTEND;TZID=Europe/Paris:20180501T180000
DTSTAMP:20260422T123959
CREATED:20180128T154046Z
LAST-MODIFIED:20180128T154046Z
UID:2851-1525165200-1525197600@dev.aeroplume.lu
SUMMARY:Ouverture saison
DESCRIPTION:
URL:https://dev.aeroplume.lu/wp/event/ouverture-saison-3/
LOCATION:Terrain Zoufftgen\, Zoufftgen\, France
CATEGORIES:Aeroplume
ORGANIZER;CN="Aeroplume":MAILTO:aeroplume@pt.lu
END:VEVENT
END:VCALENDAR